{"text_format":"3","workbook":"xlsx","n_sheets":10,"sheets":["Moduldaten","Planung","Workload Semesterverlauf","Deadlines","Ratio Aktivitäten","Ratio Lernergebnisse","Datentabellen","Workload Produktion","Hinweise","Credits"],"not_rendered":{"charts":5,"images":3,"defined_names":3,"comments":1},"read":"whole","date_system":"1900"}

{"sheet":"Moduldaten","index":0,"n_rows":51,"n_cols":3,"rows_kept":51}
["Eingabezellen sind blau gefärbt.",null,"Gelbe Felder sind für Kommentare und Erläuterungen gedacht."]
["Alle Zeitangaben sind in Zeitstunden (60 Min - nicht Unterrichtsstunden 45 Min!)."]
[]
["Modulnummer, -name"]
[]
["Studiengang/Studiengänge"]
["Autor/-in (Titel Vorname Name)"]
["Stand (Datum)"]
[]
["Betreuung Professor/-in [SWS]",4]
["Arbeitswochen Betreuer/Mentoren",15]
["max. Betreuungszeit für Modul",{"$f":"B10*B11*0.75","v":45}]
[]
["Tutoren-/Assistentenzeit/Woche [SWS]",4]
["Arbeitswochen",15]
["max. Betreuungszeit für Modul",{"$f":"B14*B15*0.75","v":45}]
[]
["Betreuung Stud. Mitarbeiter",4]
["Arbeitswochen",15]
["max. Betreuungszeit für Modul",{"$f":"B18*B19","v":60}]
[]
["Credits für Modul",5]
["Workload [h]/CP",30]
["Studierenden Workload [h] (Soll)",{"$f":"B23*B22","v":150}]
[]
["Studiensemester",1]
["Zahl der Studierenden/Semester"]
["Gruppengröße für Gruppenarbeiten"]
[]
["Eingangsvoraussetzungen"]
["Verknüpfung mit Folgemodulen"]
[]
["Lernergebnisse:",null,"Die Absolventen/innen des Moduls…"]
[null,"LE 1","1 - Lorem ipsum dolor sit amet, consetetur sadipscing elitr, sed diam nonumy eirmod tempor invidunt ut labore et dolore magna aliquyam erat, sed diam voluptua."]
[null,"LE 2","2 - "]
[null,"LE 3","3 - "]
[null,"LE 4","4 - "]
[null,"LE 5","5 - "]
[null,"LE 6","6 - "]
[null,"LE 7","7 - "]
[null,null,""]
["Prüfungsformen lt. SO"]
["Vergabe von CP"]
["Constructive Alignment"]
[]
["Fachinhalte:"]
[null,"Gliederung"]
[null,"Pflichtlektüre"]
[null,"empfohlene Lektüre"]
[]
["Sonstige Angaben"]

{"sheet":"Planung","index":1,"n_rows":121,"n_cols":13,"rows_kept":121,"merged":[[0,0,0,8],[7,2,7,3],[7,7,7,12],[9,0,17,0],[18,0,78,0],[85,0,116,0]]}
["Bitte Hinweise im Kommentar beachten! Klicken Sie dazu diese Zelle an."]
[]
[null,"Modul:",{"$f":"IF(Moduldaten!C4<>\"\",Moduldaten!C4,\"Bitte im Blatt 'Moduldaten' den Namen eintragen\")","v":"Bitte im Blatt 'Moduldaten' den Namen eintragen"}]
[{"$nulls":7},"Ʃ Work-load","Ʃ  Be-treuung","Ʃ  Be-treuung","Ʃ  Be-treuung","Ʃ  InsDes","Ʃ  Multi-media"]
[{"$nulls":7},{"$f":"H119","v":{"v":39,"d":"39.00"}},{"$f":"I119","v":{"v":3,"d":"3.00"}},{"$f":"J119","v":{"v":4,"d":"4.00"}},{"$f":"K119","v":{"v":5,"d":"5.00"}},{"$f":"L119","v":{"v":10,"d":"10.00"}},{"v":14,"d":"14.00"}]
[{"$nulls":7},{"$f":"H120","v":"zu wenig Workload"},"","",""]
[{"$nulls":7},{"v":111,"d":"111.00"},"","",""]
[null,"Woche","Inhalte, Lernformen, Medien",null,"Deadline","Typ","LE","Workload"]
[null,null,"asynchron","synchron","in Semester\n-woche",null,null,"Studierende","Professor/in","Assistent/-in","stud. MA","Instructional\nDesign","Multimedia\n-gestaltung"]
["Semesterbeginn",1,"BEISPIEL:Literaturstudium (nach Liste und online)",null,2,"Lesen,Zuhören,Anschauen","1 - Lorem ipsum dolor sit amet, consetetur sadipscing elitr, sed diam nonumy eirmod tempor invidunt ut labore et dolore magna aliquyam erat, sed diam voluptua.",{"v":12,"d":"12.00"},{"v":3,"d":"3.00"},{"v":4,"d":"4.00"},{"v":5,"d":"5.00"},{"v":4,"d":"4.00"},{"v":11,"d":"11.00"}]
[{"$nulls":4},4,"Einübung","2 - ",{"v":6,"d":"6.00"}]
[null,null,"BEISPIEL:Onlineübungen",null,7,"Recherche","3 - ",{"v":4,"d":"4.00"}]
[{"$nulls":3},"Summe (Woche)",{"$nulls":3},{"$f":"SUM(H10:H12)","v":{"v":22,"d":"22.00"}},{"$f":"SUM(I10:I12)","v":{"v":3,"d":"3.00"}},{"$f":"SUM(J10:J12)","v":{"v":4,"d":"4.00"}},{"$f":"SUM(K10:K12)","v":{"v":5,"d":"5.00"}},{"$f":"SUM(L10:L12)","v":{"v":4,"d":"4.00"}},{"v":11,"d":"11.00"}]
[null,2,"BEISPIEL:Literaturstudium (nach Liste und online)",{"$nulls":3},"",{"v":10,"d":"10.00"},{"$nulls":3},{"v":6,"d":"6.00"},{"v":3,"d":"3.00"}]
[{"$nulls":6},"",{"v":7,"d":"7.00"}]
[{"$nulls":6},""]
[{"$nulls":6},""]
[{"$nulls":3},"Summe (Woche)",{"$nulls":3},{"$f":"SUM(H14:H17)","v":{"v":17,"d":"17.00"}},{"$f":"SUM(I14:I17)","v":{"v":0,"d":"0.00"}},{"$f":"SUM(J14:J17)","v":{"v":0,"d":"0.00"}},{"$f":"SUM(K14:K17)","v":{"v":0,"d":"0.00"}},{"$f":"SUM(L14:L17)","v":{"v":6,"d":"6.00"}},{"v":3,"d":"3.00"}]
["Vorlesungszeit",3,{"$nulls":4},""]
[{"$nulls":6},""]
[{"$nulls":6},""]
[{"$nulls":6},""]
[{"$nulls":3},"Summe (Woche)",{"$nulls":3},{"$f":"SUM(H19:H22)","v":{"v":0,"d":"0.00"}},{"$f":"SUM(I19:I22)","v":{"v":0,"d":"0.00"}},{"$f":"SUM(J19:J22)","v":{"v":0,"d":"0.00"}},{"$f":"SUM(K19:K22)","v":{"v":0,"d":"0.00"}},{"$f":"SUM(L19:L22)","v":{"v":0,"d":"0.00"}},{"v":0,"d":"0.00"}]
[null,4,{"$nulls":4},""]
[{"$nulls":6},""]
[{"$nulls":6},""]
[{"$nulls":3},"Summe (Woche)",{"$nulls":3},{"$f":"SUM(H24:H26)","v":{"v":0,"d":"0.00"}},{"$f":"SUM(I24:I26)","v":{"v":0,"d":"0.00"}},{"$f":"SUM(J24:J26)","v":{"v":0,"d":"0.00"}},{"$f":"SUM(K24:K26)","v":{"v":0,"d":"0.00"}},{"$f":"SUM(L24:L26)","v":{"v":0,"d":"0.00"}},{"v":0,"d":"0.00"}]
[null,5,{"$nulls":4},""]
[{"$nulls":6},""]
[{"$nulls":6},""]
[{"$nulls":3},"Summe (Woche)",{"$nulls":3},{"$f":"SUM(H28:H30)","v":{"v":0,"d":"0.00"}},{"$f":"SUM(I28:I30)","v":{"v":0,"d":"0.00"}},{"$f":"SUM(J28:J30)","v":{"v":0,"d":"0.00"}},{"$f":"SUM(K28:K30)","v":{"v":0,"d":"0.00"}},{"$f":"SUM(L28:L30)","v":{"v":0,"d":"0.00"}},{"v":0,"d":"0.00"}]
[null,6,{"$nulls":4},""]
[{"$nulls":6},""]
[{"$nulls":6},""]
[{"$nulls":3},"Summe (Woche)",{"$nulls":3},{"$f":"SUM(H32:H34)","v":{"v":0,"d":"0.00"}},{"$f":"SUM(I32:I34)","v":{"v":0,"d":"0.00"}},{"$f":"SUM(J32:J34)","v":{"v":0,"d":"0.00"}},{"$f":"SUM(K32:K34)","v":{"v":0,"d":"0.00"}},{"$f":"SUM(L32:L34)","v":{"v":0,"d":"0.00"}},{"v":0,"d":"0.00"}]
[null,7,{"$nulls":4},""]
[{"$nulls":6},""]
[{"$nulls":6},""]
[{"$nulls":3},"Summe (Woche)",{"$nulls":3},{"$f":"SUM(H36:H38)","v":{"v":0,"d":"0.00"}},{"$f":"SUM(I36:I38)","v":{"v":0,"d":"0.00"}},{"$f":"SUM(J36:J38)","v":{"v":0,"d":"0.00"}},{"$f":"SUM(K36:K38)","v":{"v":0,"d":"0.00"}},{"$f":"SUM(L36:L38)","v":{"v":0,"d":"0.00"}},{"v":0,"d":"0.00"}]
[null,8,{"$nulls":4},""]
[{"$nulls":6},""]
[{"$nulls":6},""]
[{"$nulls":3},"Summe (Woche)",{"$nulls":3},{"$f":"SUM(H40:H42)","v":{"v":0,"d":"0.00"}},{"$f":"SUM(I40:I42)","v":{"v":0,"d":"0.00"}},{"$f":"SUM(J40:J42)","v":{"v":0,"d":"0.00"}},{"$f":"SUM(K40:K42)","v":{"v":0,"d":"0.00"}},{"$f":"SUM(L40:L42)","v":{"v":0,"d":"0.00"}},{"v":0,"d":"0.00"}]
[null,9,{"$nulls":4},""]
[{"$nulls":6},""]
[{"$nulls":6},""]
[{"$nulls":3},"Summe (Woche)",{"$nulls":3},{"$f":"SUM(H44:H46)","v":{"v":0,"d":"0.00"}},{"$f":"SUM(I44:I46)","v":{"v":0,"d":"0.00"}},{"$f":"SUM(J44:J46)","v":{"v":0,"d":"0.00"}},{"$f":"SUM(K44:K46)","v":{"v":0,"d":"0.00"}},{"$f":"SUM(L44:L46)","v":{"v":0,"d":"0.00"}},{"v":0,"d":"0.00"}]
[null,10,{"$nulls":4},""]
[{"$nulls":6},""]
[{"$nulls":6},""]
[{"$nulls":3},"Summe (Woche)",{"$nulls":3},{"$f":"SUM(H48:H50)","v":{"v":0,"d":"0.00"}},{"$f":"SUM(I48:I50)","v":{"v":0,"d":"0.00"}},{"$f":"SUM(J48:J50)","v":{"v":0,"d":"0.00"}},{"$f":"SUM(K48:K50)","v":{"v":0,"d":"0.00"}},{"$f":"SUM(L48:L50)","v":{"v":0,"d":"0.00"}},{"v":0,"d":"0.00"}]
[null,11,{"$nulls":4},""]
[{"$nulls":6},""]
[{"$nulls":6},""]
[{"$nulls":3},"Summe (Woche)",{"$nulls":3},{"$f":"SUM(H52:H54)","v":{"v":0,"d":"0.00"}},{"$f":"SUM(I52:I54)","v":{"v":0,"d":"0.00"}},{"$f":"SUM(J52:J54)","v":{"v":0,"d":"0.00"}},{"$f":"SUM(K52:K54)","v":{"v":0,"d":"0.00"}},{"$f":"SUM(L52:L54)","v":{"v":0,"d":"0.00"}},{"v":0,"d":"0.00"}]
[null,12,{"$nulls":4},""]
[{"$nulls":6},""]
[{"$nulls":6},""]
[{"$nulls":3},"Summe (Woche)",{"$nulls":3},{"$f":"SUM(H56:H58)","v":{"v":0,"d":"0.00"}},{"$f":"SUM(I56:I58)","v":{"v":0,"d":"0.00"}},{"$f":"SUM(J56:J58)","v":{"v":0,"d":"0.00"}},{"$f":"SUM(K56:K58)","v":{"v":0,"d":"0.00"}},{"$f":"SUM(L56:L58)","v":{"v":0,"d":"0.00"}},{"v":0,"d":"0.00"}]
[null,13,{"$nulls":4},""]
[{"$nulls":6},""]
[{"$nulls":6},""]
[{"$nulls":3},"Summe (Woche)",{"$nulls":3},{"$f":"SUM(H60:H62)","v":{"v":0,"d":"0.00"}},{"$f":"SUM(I60:I62)","v":{"v":0,"d":"0.00"}},{"$f":"SUM(J60:J62)","v":{"v":0,"d":"0.00"}},{"$f":"SUM(K60:K62)","v":{"v":0,"d":"0.00"}},{"$f":"SUM(L60:L62)","v":{"v":0,"d":"0.00"}},{"v":0,"d":"0.00"}]
[null,14,{"$nulls":4},""]
[{"$nulls":6},""]
[{"$nulls":6},""]
[{"$nulls":3},"Summe (Woche)",{"$nulls":3},{"$f":"SUM(H64:H66)","v":{"v":0,"d":"0.00"}},{"$f":"SUM(I64:I66)","v":{"v":0,"d":"0.00"}},{"$f":"SUM(J64:J66)","v":{"v":0,"d":"0.00"}},{"$f":"SUM(K64:K66)","v":{"v":0,"d":"0.00"}},{"$f":"SUM(L64:L66)","v":{"v":0,"d":"0.00"}},{"v":0,"d":"0.00"}]
[null,15,{"$nulls":4},""]
[{"$nulls":6},""]
[{"$nulls":6},""]
[{"$nulls":3},"Summe (Woche)",{"$nulls":3},{"$f":"SUM(H68:H70)","v":{"v":0,"d":"0.00"}},{"$f":"SUM(I68:I70)","v":{"v":0,"d":"0.00"}},{"$f":"SUM(J68:J70)","v":{"v":0,"d":"0.00"}},{"$f":"SUM(K68:K70)","v":{"v":0,"d":"0.00"}},{"$f":"SUM(L68:L70)","v":{"v":0,"d":"0.00"}},{"v":0,"d":"0.00"}]
[null,16,{"$nulls":4},""]
[{"$nulls":6},""]
[{"$nulls":6},""]
[{"$nulls":3},"Summe (Woche)",{"$nulls":3},{"$f":"SUM(H72:H74)","v":{"v":0,"d":"0.00"}},{"$f":"SUM(I72:I74)","v":{"v":0,"d":"0.00"}},{"$f":"SUM(J72:J74)","v":{"v":0,"d":"0.00"}},{"$f":"SUM(K72:K74)","v":{"v":0,"d":"0.00"}},{"$f":"SUM(L72:L74)","v":{"v":0,"d":"0.00"}},{"v":0,"d":"0.00"}]
[null,17,{"$nulls":4},""]
[{"$nulls":6},""]
[{"$nulls":6},""]
[{"$nulls":6},""]
[{"$nulls":3},"Summe (Woche)",{"$nulls":3},{"$f":"SUM(H76:H79)","v":{"v":0,"d":"0.00"}},{"$f":"SUM(I76:I79)","v":{"v":0,"d":"0.00"}},{"$f":"SUM(J76:J79)","v":{"v":0,"d":"0.00"}},{"$f":"SUM(K76:K79)","v":{"v":0,"d":"0.00"}},{"$f":"SUM(L76:L79)","v":{"v":0,"d":"0.00"}},{"v":0,"d":"0.00"}]
[null,18,{"$nulls":4},""]
[{"$nulls":6},""]
[{"$nulls":6},""]
[{"$nulls":6},""]
[{"$nulls":3},"Summe (Woche)",{"$nulls":3},{"$f":"SUM(H81:H84)","v":{"v":0,"d":"0.00"}},{"$f":"SUM(I81:I84)","v":{"v":0,"d":"0.00"}},{"$f":"SUM(J81:J84)","v":{"v":0,"d":"0.00"}},{"$f":"SUM(K81:K84)","v":{"v":0,"d":"0.00"}},{"$f":"SUM(L81:L84)","v":{"v":0,"d":"0.00"}},{"v":0,"d":"0.00"}]
["vorlesungsfreie Zeit",19,{"$nulls":4},""]
[{"$nulls":6},""]
[{"$nulls":6},""]
[{"$nulls":3},"Summe (Woche)",{"$nulls":3},{"$f":"SUM(H86:H88)","v":{"v":0,"d":"0.00"}},{"$f":"SUM(I86:I88)","v":{"v":0,"d":"0.00"}},{"$f":"SUM(J86:J88)","v":{"v":0,"d":"0.00"}},{"$f":"SUM(K86:K88)","v":{"v":0,"d":"0.00"}},{"$f":"SUM(L86:L88)","v":{"v":0,"d":"0.00"}},{"v":0,"d":"0.00"}]
[null,20,{"$nulls":4},""]
[{"$nulls":6},""]
[{"$nulls":6},""]
[{"$nulls":3},"Summe (Woche)",{"$nulls":3},{"$f":"SUM(H90:H92)","v":{"v":0,"d":"0.00"}},{"$f":"SUM(I90:I92)","v":{"v":0,"d":"0.00"}},{"$f":"SUM(J90:J92)","v":{"v":0,"d":"0.00"}},{"$f":"SUM(K90:K92)","v":{"v":0,"d":"0.00"}},{"$f":"SUM(L90:L92)","v":{"v":0,"d":"0.00"}},{"v":0,"d":"0.00"}]
[null,21,{"$nulls":4},""]
[{"$nulls":6},""]
[{"$nulls":6},""]
[{"$nulls":3},"Summe (Woche)",{"$nulls":3},{"$f":"SUM(H94:H96)","v":{"v":0,"d":"0.00"}},{"$f":"SUM(I94:I96)","v":{"v":0,"d":"0.00"}},{"$f":"SUM(J94:J96)","v":{"v":0,"d":"0.00"}},{"$f":"SUM(K94:K96)","v":{"v":0,"d":"0.00"}},{"$f":"SUM(L94:L96)","v":{"v":0,"d":"0.00"}},{"v":0,"d":"0.00"}]
[null,22,{"$nulls":4},""]
[{"$nulls":6},""]
[{"$nulls":6},""]
[{"$nulls":3},"Summe (Woche)",{"$nulls":3},{"$f":"SUM(H98:H100)","v":{"v":0,"d":"0.00"}},{"$f":"SUM(I98:I100)","v":{"v":0,"d":"0.00"}},{"$f":"SUM(J98:J100)","v":{"v":0,"d":"0.00"}},{"$f":"SUM(K98:K100)","v":{"v":0,"d":"0.00"}},{"$f":"SUM(L98:L100)","v":{"v":0,"d":"0.00"}},{"v":0,"d":"0.00"}]
[null,23,{"$nulls":4},""]
[{"$nulls":6},""]
[{"$nulls":6},""]
[{"$nulls":3},"Summe (Woche)",{"$nulls":3},{"$f":"SUM(H102:H104)","v":{"v":0,"d":"0.00"}},{"$f":"SUM(I102:I104)","v":{"v":0,"d":"0.00"}},{"$f":"SUM(J102:J104)","v":{"v":0,"d":"0.00"}},{"$f":"SUM(K102:K104)","v":{"v":0,"d":"0.00"}},{"$f":"SUM(L102:L104)","v":{"v":0,"d":"0.00"}},{"v":0,"d":"0.00"}]
[null,24,{"$nulls":4},""]
[{"$nulls":6},""]
[{"$nulls":6},""]
[{"$nulls":3},"Summe (Woche)",{"$nulls":3},{"$f":"SUM(H106:H108)","v":{"v":0,"d":"0.00"}},{"$f":"SUM(I106:I108)","v":{"v":0,"d":"0.00"}},{"$f":"SUM(J106:J108)","v":{"v":0,"d":"0.00"}},{"$f":"SUM(K106:K108)","v":{"v":0,"d":"0.00"}},{"$f":"SUM(L106:L108)","v":{"v":0,"d":"0.00"}},{"v":0,"d":"0.00"}]
[null,25,{"$nulls":4},""]
[{"$nulls":6},""]
[{"$nulls":6},""]
[{"$nulls":3},"Summe (Woche)",{"$nulls":3},{"$f":"SUM(H110:H112)","v":{"v":0,"d":"0.00"}},{"$f":"SUM(I110:I112)","v":{"v":0,"d":"0.00"}},{"$f":"SUM(J110:J112)","v":{"v":0,"d":"0.00"}},{"$f":"SUM(K110:K112)","v":{"v":0,"d":"0.00"}},{"$f":"SUM(L110:L112)","v":{"v":0,"d":"0.00"}},{"v":0,"d":"0.00"}]
[null,26,{"$nulls":4},""]
[{"$nulls":6},""]
[{"$nulls":6},""]
[{"$nulls":3},"Summe (Woche)",{"$nulls":3},{"$f":"SUM(H114:H116)","v":{"v":0,"d":"0.00"}},{"$f":"SUM(I114:I116)","v":{"v":0,"d":"0.00"}},{"$f":"SUM(J114:J116)","v":{"v":0,"d":"0.00"}},{"$f":"SUM(K114:K116)","v":{"v":0,"d":"0.00"}},{"$f":"SUM(L114:L116)","v":{"v":0,"d":"0.00"}},{"v":0,"d":"0.00"}]
[{"$nulls":7},"Summe Work-load","Summe Prof.-zeit","Summe Assist.-zeit","Summe Stud. MA-zeit","Summe InsDes","Summe Multi-media"]
[{"$nulls":7},{"$f":"H13+H18+H23+H27+H31+H35+H39+H43+H47+H51+H55+H59+H63+H67+H71+H75+H80+H85+H89+H93+H97+H101+H105+H109+H113+H117","v":{"v":39,"d":"39.00"}},{"$f":"I13+I18+I23+I27+I31+I35+I39+I43+I47+I51+I55+I59+I63+I67+I71+I75+I80+I85+I89+I93+I97+I101+I105+I109+I113+I117","v":{"v":3,"d":"3.00"}},{"$f":"J13+J18+J23+J27+J31+J35+J39+J43+J47+J51+J55+J59+J63+J67+J71+J75+J80+J85+J89+J93+J97+J101+J105+J109+J113+J117","v":{"v":4,"d":"4.00"}},{"$f":"K13+K18+K23+K27+K31+K35+K39+K43+K47+K51+K55+K59+K63+K67+K71+K75+K80+K85+K89+K93+K97+K101+K105+K109+K113+K117","v":{"v":5,"d":"5.00"}},{"$f":"L13+L18+L23+L27+L31+L35+L39+L43+L47+L51+L55+L59+L63+L67+L71+L75+L80+L85+L89+L93+L97+L101+L105+L109+L113+L117","v":{"v":10,"d":"10.00"}},{"v":14,"d":"14.00"}]
[{"$nulls":7},{"$f":"IF(H119>(Moduldaten!B22*Moduldaten!B23),\"Überschreitung\",(IF(H119<Moduldaten!B24,\"zu wenig Workload\",\"\")))","v":"zu wenig Workload"},{"$f":"IF(I119>Moduldaten!B12,\"Überschreitung\",\"\")","v":""},{"$f":"IF(J119>Moduldaten!B16,\"Überschreitung\",\"\")","v":""},{"$f":"IF(K119>Moduldaten!B20,\"Überschreitung\",\"\")","v":""}]
[{"$nulls":7},{"$f":"IF(H119>(Moduldaten!B22*Moduldaten!B23),H119-(Moduldaten!B22*Moduldaten!B23),(IF(H119<Moduldaten!B24,Moduldaten!B24-H119,\"\")))","v":{"v":111,"d":"111.00"}},{"$f":"IF(I119>Moduldaten!B12,I119-Moduldaten!B12,\"\")","v":""},{"$f":"IF(J119>Moduldaten!B16,J119-Moduldaten!B16,\"\")","v":""},{"$f":"IF(K119>Moduldaten!B20,K119-Moduldaten!B20,\"\")","v":""}]

{"sheet":"Workload Semesterverlauf","index":2,"n_rows":3,"n_cols":2,"rows_kept":3,"merged":[[2,0,2,4]]}
["Modul:",{"$f":"Planung!C3","v":"Bitte im Blatt 'Moduldaten' den Namen eintragen"}]
[]
["Die Grafik zeigt den Verlauf der Arbeitsbelastung für Studierende und Betreuende über den Verlauf des Semesters. Entsprechend der Anforderung der Akkreditierung, dass sich Workload der Studierenden über 26 Wochen abzüglich 3 Wochen Urlaub verteilen soll, umfasst die Planung und Darstellung 26 Wochen."]

{"sheet":"Deadlines","index":3,"n_rows":0,"n_cols":0,"rows_kept":0}

{"sheet":"Ratio Aktivitäten","index":4,"n_rows":0,"n_cols":0,"rows_kept":0}

{"sheet":"Ratio Lernergebnisse","index":5,"n_rows":0,"n_cols":0,"rows_kept":0}

{"sheet":"Datentabellen","index":6,"n_rows":80,"n_cols":7,"rows_kept":80,"hidden":true}
["Datentabelle Grafik Workload"]
[]
["Woche","Studierende","Prof.","Assist.","stud. MA","InsDes","Multimedia"]
[-2,{"$f":"Planung!H13","v":22},{"$f":"Planung!I13","v":3},{"$f":"Planung!J13","v":4},{"$f":"Planung!K13","v":5},{"$f":"Planung!L13","v":4},{"$f":"Planung!M13","v":11}]
[-1,{"$f":"Planung!H18","v":17},{"$f":"Planung!I18","v":0},{"$f":"Planung!J18","v":0},{"$f":"Planung!K18","v":0},{"$f":"Planung!L18","v":6},{"$f":"Planung!M18","v":3}]
[1,{"$f":"Planung!H23","v":0},{"$f":"Planung!I23","v":0},{"$f":"Planung!J23","v":0},{"$f":"Planung!K23","v":0},{"$f":"Planung!L23","v":0},{"$f":"Planung!M23","v":0}]
[2,{"$f":"Planung!H27","v":0},{"$f":"Planung!I27","v":0},{"$f":"Planung!J27","v":0},{"$f":"Planung!K27","v":0},{"$f":"Planung!L27","v":0},{"$f":"Planung!M27","v":0}]
[3,{"$f":"Planung!H31","v":0},{"$f":"Planung!I31","v":0},{"$f":"Planung!J31","v":0},{"$f":"Planung!K31","v":0},{"$f":"Planung!L31","v":0},{"$f":"Planung!M31","v":0}]
[4,{"$f":"Planung!H35","v":0},{"$f":"Planung!I35","v":0},{"$f":"Planung!J35","v":0},{"$f":"Planung!K35","v":0},{"$f":"Planung!L35","v":0},{"$f":"Planung!M35","v":0}]
[5,{"$f":"Planung!H39","v":0},{"$f":"Planung!I39","v":0},{"$f":"Planung!J39","v":0},{"$f":"Planung!K39","v":0},{"$f":"Planung!L39","v":0},{"$f":"Planung!M39","v":0}]
[6,{"$f":"Planung!H43","v":0},{"$f":"Planung!I43","v":0},{"$f":"Planung!J43","v":0},{"$f":"Planung!K43","v":0},{"$f":"Planung!L43","v":0},{"$f":"Planung!M43","v":0}]
[7,{"$f":"Planung!H47","v":0},{"$f":"Planung!I47","v":0},{"$f":"Planung!J47","v":0},{"$f":"Planung!K47","v":0},{"$f":"Planung!L47","v":0},{"$f":"Planung!M47","v":0}]
[8,{"$f":"Planung!H51","v":0},{"$f":"Planung!I51","v":0},{"$f":"Planung!J51","v":0},{"$f":"Planung!K51","v":0},{"$f":"Planung!L51","v":0},{"$f":"Planung!M51","v":0}]
[9,{"$f":"Planung!H55","v":0},{"$f":"Planung!I55","v":0},{"$f":"Planung!J55","v":0},{"$f":"Planung!K55","v":0},{"$f":"Planung!L55","v":0},{"$f":"Planung!M55","v":0}]
[10,{"$f":"Planung!H59","v":0},{"$f":"Planung!I59","v":0},{"$f":"Planung!J59","v":0},{"$f":"Planung!K59","v":0},{"$f":"Planung!L59","v":0},{"$f":"Planung!M59","v":0}]
[11,{"$f":"Planung!H63","v":0},{"$f":"Planung!I63","v":0},{"$f":"Planung!J63","v":0},{"$f":"Planung!K63","v":0},{"$f":"Planung!L63","v":0},{"$f":"Planung!M63","v":0}]
[12,{"$f":"Planung!H67","v":0},{"$f":"Planung!I67","v":0},{"$f":"Planung!J67","v":0},{"$f":"Planung!K67","v":0},{"$f":"Planung!L67","v":0},{"$f":"Planung!M67","v":0}]
[13,{"$f":"Planung!H71","v":0},{"$f":"Planung!I71","v":0},{"$f":"Planung!J71","v":0},{"$f":"Planung!K71","v":0},{"$f":"Planung!L71","v":0},{"$f":"Planung!M71","v":0}]
[14,{"$f":"Planung!H75","v":0},{"$f":"Planung!I75","v":0},{"$f":"Planung!J75","v":0},{"$f":"Planung!K75","v":0},{"$f":"Planung!L75","v":0},{"$f":"Planung!M75","v":0}]
[15,{"$f":"Planung!H80","v":0},{"$f":"Planung!I80","v":0},{"$f":"Planung!J80","v":0},{"$f":"Planung!K80","v":0},{"$f":"Planung!L80","v":0},{"$f":"Planung!M80","v":0}]
[16,{"$f":"Planung!H85","v":0},{"$f":"Planung!I85","v":0},{"$f":"Planung!J85","v":0},{"$f":"Planung!K85","v":0},{"$f":"Planung!L85","v":0},{"$f":"Planung!M85","v":0}]
[1,{"$f":"Planung!H89","v":0},{"$f":"Planung!I89","v":0},{"$f":"Planung!J89","v":0},{"$f":"Planung!K89","v":0},{"$f":"Planung!L89","v":0},{"$f":"Planung!M89","v":0}]
[2,{"$f":"Planung!H93","v":0},{"$f":"Planung!I93","v":0},{"$f":"Planung!J93","v":0},{"$f":"Planung!K93","v":0},{"$f":"Planung!L93","v":0},{"$f":"Planung!M93","v":0}]
[3,{"$f":"Planung!H97","v":0},{"$f":"Planung!I97","v":0},{"$f":"Planung!J97","v":0},{"$f":"Planung!K97","v":0},{"$f":"Planung!L97","v":0},{"$f":"Planung!M97","v":0}]
[4,{"$f":"Planung!H101","v":0},{"$f":"Planung!I101","v":0},{"$f":"Planung!J101","v":0},{"$f":"Planung!K101","v":0},{"$f":"Planung!L101","v":0},{"$f":"Planung!M101","v":0}]
[5,{"$f":"Planung!H105","v":0},{"$f":"Planung!I105","v":0},{"$f":"Planung!J105","v":0},{"$f":"Planung!K105","v":0},{"$f":"Planung!L105","v":0},{"$f":"Planung!M105","v":0}]
[6,{"$f":"Planung!H109","v":0},{"$f":"Planung!I109","v":0},{"$f":"Planung!J109","v":0},{"$f":"Planung!K109","v":0},{"$f":"Planung!L109","v":0},{"$f":"Planung!M109","v":0}]
[7,{"$f":"Planung!H113","v":0},{"$f":"Planung!I113","v":0},{"$f":"Planung!J113","v":0},{"$f":"Planung!K113","v":0},{"$f":"Planung!L113","v":0},{"$f":"Planung!M113","v":0}]
[8,{"$f":"Planung!H117","v":0},{"$f":"Planung!I117","v":0},{"$f":"Planung!J117","v":0},{"$f":"Planung!K117","v":0},{"$f":"Planung!L117","v":0},{"$f":"Planung!M117","v":0}]
[]
[]
["Datentabelle Ratio Aktivitäten"]
[]
["Woche",{"$nulls":5},"Deadlines pro Semesterwoche"]
[-2,{"$nulls":4},1,{"$f":"COUNTIF(Planung!E10:E116,1)","v":0}]
[-1,{"$nulls":4},2,{"$f":"COUNTIF(Planung!E10:E116,2)","v":1}]
[1,{"$nulls":4},3,{"$f":"COUNTIF(Planung!E10:E116,3)","v":0}]
[2,{"$nulls":4},4,{"$f":"COUNTIF(Planung!E10:E116,4)","v":1}]
[3,{"$nulls":4},5,{"$f":"COUNTIF(Planung!E10:E116,5)","v":0}]
[4,{"$nulls":4},6,{"$f":"COUNTIF(Planung!E10:E116,6)","v":0}]
[5,{"$nulls":4},7,{"$f":"COUNTIF(Planung!E10:E116,7)","v":1}]
[6,{"$nulls":4},8,{"$f":"COUNTIF(Planung!E10:E116,8)","v":0}]
[7,{"$nulls":4},9,{"$f":"COUNTIF(Planung!E10:E116,9)","v":0}]
[8,{"$nulls":4},10,{"$f":"COUNTIF(Planung!E10:E116,10)","v":0}]
[9,{"$nulls":4},11,{"$f":"COUNTIF(Planung!E10:E116,11)","v":0}]
[10,{"$nulls":4},12,{"$f":"COUNTIF(Planung!E10:E116,12)","v":0}]
[11,{"$nulls":4},13,{"$f":"COUNTIF(Planung!E10:E116,13)","v":0}]
[12,{"$nulls":4},14,{"$f":"COUNTIF(Planung!E10:E116,14)","v":0}]
[13,{"$nulls":4},15,{"$f":"COUNTIF(Planung!E10:E116,15)","v":0}]
[14,{"$nulls":4},16,{"$f":"COUNTIF(Planung!E10:E116,16)","v":0}]
[15,{"$nulls":4},17,{"$f":"COUNTIF(Planung!E10:E116,17)","v":0}]
[16,{"$nulls":4},18,{"$f":"COUNTIF(Planung!E10:E116,18)","v":0}]
[1,{"$nulls":4},19,{"$f":"COUNTIF(Planung!E10:E116,19)","v":0}]
[2,{"$nulls":4},20,{"$f":"COUNTIF(Planung!E10:E116,20)","v":0}]
[3,{"$nulls":4},21,{"$f":"COUNTIF(Planung!E10:E116,21)","v":0}]
[4,{"$nulls":4},22,{"$f":"COUNTIF(Planung!E10:E116,22)","v":0}]
[5,{"$nulls":4},23,{"$f":"COUNTIF(Planung!E10:E116,23)","v":0}]
[6,{"$nulls":4},24,{"$f":"COUNTIF(Planung!E10:E116,24)","v":0}]
[7,{"$nulls":4},25,{"$f":"COUNTIF(Planung!E10:E116,25)","v":0}]
[8,{"$nulls":4},26,{"$f":"COUNTIF(Planung!E10:E116,26)","v":0}]
[]
[]
["Lesen,Zuhören,Anschauen",{"$f":"SUMIFS(Planung!H10:H116,Planung!F10:F116,\"Lesen,Zuhören,Anschauen\")","v":12}]
["Einübung",{"$f":"SUMIFS(Planung!H10:H116,Planung!F10:F116,\"Einübung\")","v":6}]
["Recherche",{"$f":"SUMIFS(Planung!H10:H116,Planung!F10:F116,\"Recherche\")","v":4}]
["Diskussion",{"$f":"SUMIFS(Planung!H10:H116,Planung!F10:F116,\"Diskussion\")","v":0}]
["Zusammenarbeit",{"$f":"SUMIFS(Planung!H10:H116,Planung!F10:F116,\"Zusammenarbeit\")","v":0}]
["Analyse/Bewertung",{"$f":"SUMIFS(Planung!H10:H116,Planung!F10:F116,\"Analyse/Bewertung\")","v":0}]
["Produktion",{"$f":"SUMIFS(Planung!H10:H116,Planung!F10:F116,\"Produktion\")","v":0}]
["META: Reflexion, Soft Skills,...",{"$f":"SUMIFS(Planung!H10:H116,Planung!F10:F116,\"META: Reflexion, Soft Skills,...\")","v":0}]
["nicht zugeordet",{"$f":"SUMIFS(Planung!H10:H116,Planung!F10:F116,\"\")-Planung!H13-Planung!H18-Planung!H23-Planung!H27-Planung!H31-Planung!H35-Planung!H39-Planung!H43-Planung!H47-Planung!H51-Planung!H55-Planung!H59-Planung!H63-Planung!H67-Planung!H71-Planung!H75-Planung!H80-Planung!H85-Planung!H89-Planung!H93-Planung!H97-Planung!H101-Planung!H105-Planung!H109-Planung!H113-Planung!H117","v":17}]
[]
["LE 1",{"$f":"SUMIFS(Planung!H10:H116,Planung!G10:G116,Moduldaten!C34)","v":12}]
["LE 2",{"$f":"SUMIFS(Planung!H10:H116,Planung!G10:G116,Moduldaten!C35)","v":6}]
["LE 3",{"$f":"SUMIFS(Planung!H10:H116,Planung!G10:G116,Moduldaten!C36)","v":4}]
["LE 4",{"$f":"SUMIFS(Planung!H10:H116,Planung!G10:G116,Moduldaten!C37)","v":0}]
["LE 5",{"$f":"SUMIFS(Planung!H10:H116,Planung!G10:G116,Moduldaten!C38)","v":0}]
["LE 6",{"$f":"SUMIFS(Planung!H10:H116,Planung!G10:G116,Moduldaten!C39)","v":0}]
["LE 7",{"$f":"SUMIFS(Planung!H10:H116,Planung!G10:G116,Moduldaten!C40)","v":0}]
["nicht zugeordnet",{"$f":"SUMIFS(Planung!H10:H116,Planung!G10:G116,\"\")-Planung!H13-Planung!H18-Planung!H23-Planung!H27-Planung!H31-Planung!H35-Planung!H39-Planung!H43-Planung!H47-Planung!H51-Planung!H55-Planung!H59-Planung!H63-Planung!H67-Planung!H71-Planung!H75-Planung!H80-Planung!H85-Planung!H89-Planung!H93-Planung!H97-Planung!H101-Planung!H105-Planung!H109-Planung!H113-Planung!H117","v":17}]

{"sheet":"Workload Produktion","index":7,"n_rows":2,"n_cols":2,"rows_kept":2,"merged":[[1,0,1,4]]}
["Modul:",{"$f":"Planung!C3","v":"Bitte im Blatt 'Moduldaten' den Namen eintragen"}]
["Da die Inhalte von Online-Modulen typischerweise vor dem Einsatz im Semester produziert werden, zeigt diese Grafik lediglich, wie viele Stunden Produktionsaufwand im Instructional Design und der Multimediaproduktion für die Einheiten der jeweiligen Semesterwochen notwendig sind. Die Produktion kann mit dem entsprechenden Stundenaufwand in einem kürzeren Zeitraum ablaufen."]

{"sheet":"Hinweise","index":8,"n_rows":19,"n_cols":1,"rows_kept":19,"merged":[[1,0,1,10],[4,0,4,10],[7,0,7,10],[8,0,8,10],[9,0,9,10],[18,0,18,10]]}
["Allgemeine Hinweise"]
["Alle Tabellenblätter sind über \"Überprüfen\" --> \"Blatt schützen\" vor unbeabsichtigten Veränderungen geschützt. Sollten Sie Änderungen vornehmen wollen, können einfach den Blattschutz für einzelne Tabellen aufheben."]
[]
["Zum Tabellenblatt \"Datentabellen\""]
["Das Tabellenblatt Datentabellen ist ausgeblendet. Zum Einblenden gehen Sie auf \"Start\" --> \"Format\" -- > \"Ein- Ausblenden\" und wählen die Tabelle zum Einblenden aus. Die Datentabellen liefern die Daten für die Diagramme in den Blättern Workload Semestervaerlauf/Produktion und Ratio Aktivitäten/Lernergebnisse."]
[]
["Zum Tabellenblatt \"Moduldaten\""]
["Dieses Tabellenblatt erhebt die Grunddaten des Moduls, die teilweise auf folgenden Blättern weiterverarbeitet werden."]
["Mentorenzeit: Die LVVO des Landes Schleswig-Holstein sieht kein Umrechenverfahren von der Präsenzlehre zur Onlinelehre vor. Da die Lehrverpflichtung von Professoren/-innen sich auf die Anwesenheit in der Veranstaltung während der Vorlesungszeit bezieht, wird in den Tabellen für die zur Verfügung stehende Betreuung die Anzahl der Semesterwochen mit der Anzahl der SWS und 0,75 (45 Minuten) multipliziert, um die Gesamtbetreuungszeit für ein Modul zu errechnen. Zeiten wie Klausurkorrekturen, Vorbeitungszeiten auf Termine usw. sind so nicht erfasst. Sie werden allerdin gs auch durch die LVVO nicht abgedeckt."]
["Workload/CP: 25 oder 30 Stunden? Laut den \"Ländergemeinsamen Strukturvorgaben für die Akkreditierung von Bachelor und\nMasterstudiengängen\" der Kultusministerkonferenz vom 10.10.2003 i.d.F. vom 04.02.2010 sollen Studierenden für einen Leistungspunkt \"25 - max. 30 Stunden\" arbeiten. Meistens wird dieses als \"sollen 30 Stunden arbeiten\" ausgelegt. Besonders aber bei berufsbegleitenden Studiengängen sollte in Absprache mit der Akkreditierungsagentur eher von 25 Stunden ausgegangen werden."]
[]
["Lernergebnisse"]
[]
["Zum Tabellenblatt \"Planung\""]
[]
[]
[]
["Zum Tabellenblatt \"Datentabellen\""]
["Das Tabellenblatt Datentabellen ist ausgeblendet. Zum Einblenden gehen Sie auf \"Start\" --> \"Format\" -- > \"Ein- Ausblenden\" und wählen die Tabelle zum Einblenden aus. Die Datentabellen liefern die Daten für die Diagramme in den Blättern Workload Semestervaerlauf/Produktion und Ratio Aktivitäten/Lernergebnisse."]

{"sheet":"Credits","index":9,"n_rows":11,"n_cols":1,"rows_kept":11}
["Dieser Modulplaner basiert auf den folgen Werken und Quellen:"]
["- Die Workload-Berechnung ist eine Überarbeitung und Erweiterung der im Projekt \"LINAVO - Lernen im Netz, Aufstieg vor Ort\" entwickelten Tabelle zur Planung von Workload Lehrender und Studierender. Deren Ausgangspunkte waren der Workload-Rechner der TU München und ein Schaubild in einem Vortrag des LINAVO-Arbeitspaketsleiters „Technik und Didaktik“ Andreas Wittke (FH Lübeck)."]
["- Die Erfassung der Lernergebnisse und Modulgrunddaten lehnt sich an die \"Vorlage einer Modulbeschreibung\" des AQUAS e.V. und den \"Leitfaden zur Erstellung Ihres methodisch-didaktischen Konzepts\" aus dem Projekt LINAVO an."]
["- Die Auswahl und grafische Auswertung der Aktivitätstypen lehnt sich an den Learning Designer des London Knowledge Lab an. Die Kategorien sind um die Punkte \"Analyse/Bewertung\" und \"META: Reflexion, Soft Skills,...\" erweitert. Die Kategorie \"Analyse/Bewertung\" führt die Beschreibungen der Aktivitäten dichter an Blooms Taxonomie in der revidierten Version von Krathwohl und Anderson heran. Da diese Taxonomie metakognitive Reflexion über eigene Lernprozesse oder die Einbettung des Lernens in gruppendynamische Prozesse nicht erfasst, ist für Aktivitäten aus diesen Bereichen die Kategorie \"META: Reflexion, Soft Skills,...\" hinzugekommen."]
[]
["Das Werkzeug steht unter einer Creative Commons Lizenz CC BY SA 4.0 https://creativecommons.org/licenses/by-sa/4.0/legalcode. Eine Erklärung wie es  unter dieser Lizenz genutzt werden kann finden Sie hier: https://creativecommons.org/licenses/by-sa/4.0/deed.de"]
[]
["Das Werkzeug ist noch in der Entwicklungsphase. Tipps, Kritik und Rückmeldungen sind unter arne.moeller@hs-flensburg.de jederzeit willkommen."]
[]
["Arne Möller, E-Learning-Koordinator, HS Flensburg, https://elearning.hs-flensburg.de/elearningblog/"]
["15. Dezember 2016"]